BEGIN:VCALENDAR
VERSION:2.0
PRODID:-//ChamberMaster//Event Calendar 2.0//EN
METHOD:PUBLISH
X-PUBLISHED-TTL:P3D
REFRESH-INTERVAL:P3D
CALSCALE:GREGORIAN
BEGIN:VEVENT
DTSTART:20250430T210000Z
DTEND:20250430T230000Z
X-MICROSOFT-CDO-ALLDAYEVENT:FALSE
SUMMARY:2025 Jumbo Networker & Business Expo!
DESCRIPTION:We're excited to invite you to the 2025 Jumbo Networker & Business Expo   an incredible evening of networking\, business discovery\, and community collaboration!\n\n  Wednesday\, April 30\, 2025\n\n  5:00 PM   8:00 PM\n\n  DCOTA   Design Center of the Americas\n\n1855 Griffin Road\, Dania Beach\, FL 33004\n\n  FREE Parking & Admission for Business Guests!\n\nDon't miss this opportunity to:\n\n  Connect with 75+ local businesses\n\n  Discover new products and services\n\n  Build powerful community partnerships\n\n  Enter exciting door prize giveaways!\n\nNo registration required   just bring your business cards and get ready to network like never before!\nFood & Drinks available for sale.
X-ALT-DESC;FMTTYPE=text/html:<div>\n<p data-end="423" data-start="260"><span style="font-size:20px\;"><span style="font-family:times new roman\;">We&rsquo\;re excited to invite you to the <strong data-end="335" data-start="295">2025 Jumbo Networker &amp\; Business Expo</strong> &ndash\; an incredible evening of networking\, business discovery\, and community collaboration!</span></span></p>\n\n<p data-end="629" data-start="425"><span style="font-size:20px\;"><span style="font-family:times new roman\;"><strong data-end="457" data-start="425">&#128197\; Wednesday\, April 30\, 2025</strong><br data-end="460" data-start="457" />\n<strong data-end="484" data-start="460">&#128340\; 5:00 PM &ndash\; 8:00 PM</strong><br data-end="487" data-start="484" />\n<strong data-end="531" data-start="487">&#128205\; DCOTA &ndash\; Design Center of the Americas</strong><br data-end="534" data-start="531" />\n1855 Griffin Road\, Dania Beach\, FL 33004<br data-end="577" data-start="574" />\n<strong data-end="629" data-start="577">&#127903\; FREE Parking &amp\; Admission for Business Guests!</strong></span></span></p>\n\n<p data-end="820" data-start="631"><span style="font-size:20px\;"><span style="font-family:times new roman\;">Don&#39\;t miss this opportunity to:<br />\n&#9989\; Connect with 75+ local businesses<br data-end="701" data-start="698" />\n&#9989\; Discover new products and services<br data-end="740" data-start="737" />\n&#9989\; Build powerful community partnerships<br data-end="782" data-start="779" />\n&#9989\; Enter exciting door prize giveaways!</span></span></p>\n\n<p data-end="927" data-start="822"><span style="font-size:20px\;"><span style="font-family:times new roman\;"><strong data-end="927" data-start="822">No registration required &ndash\; just bring your business cards and get ready to network like never before!</strong></span></span></p>\n<span style="font-size:20px\;"><span style="font-family:times new roman\;">Food &amp\; Drinks available for sale.</span></span></div>\n
LOCATION:DCOTA Design Center of the Americas 1855 Griffin Road\, Dania Beach\, FL 33004
UID:e.235.5723
SEQUENCE:3
DTSTAMP:20260424T233601Z
URL:https://public.hallandalebeachchamber.org/events/details/2025-jumbo-networker-business-expo-5723
END:VEVENT

END:VCALENDAR
